BEGIN:VCALENDAR
VERSION:2.0
PRODID:-//Leigh Academy Rainham - ECPv6.15.20//NONSGML v1.0//EN
CALSCALE:GREGORIAN
METHOD:PUBLISH
X-ORIGINAL-URL:https://leighacademyrainham.org.uk
X-WR-CALDESC:Events for Leigh Academy Rainham
REFRESH-INTERVAL;VALUE=DURATION:PT1H
X-Robots-Tag:noindex
X-PUBLISHED-TTL:PT1H
BEGIN:VTIMEZONE
TZID:Europe/London
BEGIN:DAYLIGHT
TZOFFSETFROM:+0000
TZOFFSETTO:+0100
TZNAME:BST
DTSTART:20250330T010000
END:DAYLIGHT
BEGIN:STANDARD
TZOFFSETFROM:+0100
TZOFFSETTO:+0000
TZNAME:GMT
DTSTART:20251026T010000
END:STANDARD
BEGIN:DAYLIGHT
TZOFFSETFROM:+0000
TZOFFSETTO:+0100
TZNAME:BST
DTSTART:20260329T010000
END:DAYLIGHT
BEGIN:STANDARD
TZOFFSETFROM:+0100
TZOFFSETTO:+0000
TZNAME:GMT
DTSTART:20261025T010000
END:STANDARD
BEGIN:DAYLIGHT
TZOFFSETFROM:+0000
TZOFFSETTO:+0100
TZNAME:BST
DTSTART:20270328T010000
END:DAYLIGHT
BEGIN:STANDARD
TZOFFSETFROM:+0100
TZOFFSETTO:+0000
TZNAME:GMT
DTSTART:20271031T010000
END:STANDARD
END:VTIMEZONE
BEGIN:VEVENT
DTSTART;VALUE=DATE:20260604
DTEND;VALUE=DATE:20260605
DTSTAMP:20260423T131122
CREATED:20260422T105906Z
LAST-MODIFIED:20260422T105906Z
UID:2095-1780531200-1780617599@leighacademyrainham.org.uk
SUMMARY:Year 5 admissions evening
DESCRIPTION:
URL:https://leighacademyrainham.org.uk/event/year-5-admissions-evening/
ATTACH;FMTTYPE=image/png:https://leighacademyrainham.org.uk/wp-content/uploads/2020/09/post-banner-rainham.png
END:VEVENT
BEGIN:VEVENT
DTSTART;TZID=Europe/London:20260617T143000
DTEND;TZID=Europe/London:20260617T160000
DTSTAMP:20260423T131122
CREATED:20260422T105930Z
LAST-MODIFIED:20260422T105930Z
UID:2096-1781706600-1781712000@leighacademyrainham.org.uk
SUMMARY:Year 6 Transition Tour
DESCRIPTION:
URL:https://leighacademyrainham.org.uk/event/year-6-transition-tour/
ATTACH;FMTTYPE=image/png:https://leighacademyrainham.org.uk/wp-content/uploads/2020/09/post-banner-rainham.png
END:VEVENT
BEGIN:VEVENT
DTSTART;VALUE=DATE:20260622
DTEND;VALUE=DATE:20260623
DTSTAMP:20260423T131122
CREATED:20260422T105956Z
LAST-MODIFIED:20260422T105956Z
UID:2097-1782086400-1782172799@leighacademyrainham.org.uk
SUMMARY:Year 5 Taster Evening
DESCRIPTION:
URL:https://leighacademyrainham.org.uk/event/year-5-taster-evening/
ATTACH;FMTTYPE=image/png:https://leighacademyrainham.org.uk/wp-content/uploads/2020/09/post-banner-rainham.png
END:VEVENT
BEGIN:VEVENT
DTSTART;VALUE=DATE:20260625
DTEND;VALUE=DATE:20260627
DTSTAMP:20260423T131122
CREATED:20260422T110024Z
LAST-MODIFIED:20260422T110024Z
UID:2098-1782345600-1782518399@leighacademyrainham.org.uk
SUMMARY:Year 12 Taster Days
DESCRIPTION:
URL:https://leighacademyrainham.org.uk/event/year-12-taster-days/
ATTACH;FMTTYPE=image/png:https://leighacademyrainham.org.uk/wp-content/uploads/2020/09/post-banner-rainham.png
END:VEVENT
BEGIN:VEVENT
DTSTART;VALUE=DATE:20260629
DTEND;VALUE=DATE:20260630
DTSTAMP:20260423T131122
CREATED:20260422T110114Z
LAST-MODIFIED:20260422T110114Z
UID:2100-1782691200-1782777599@leighacademyrainham.org.uk
SUMMARY:Year 10 work experience week
DESCRIPTION:
URL:https://leighacademyrainham.org.uk/event/year-10-work-experience-week/
ATTACH;FMTTYPE=image/png:https://leighacademyrainham.org.uk/wp-content/uploads/2020/09/post-banner-rainham.png
END:VEVENT
BEGIN:VEVENT
DTSTART;VALUE=DATE:20260629
DTEND;VALUE=DATE:20260701
DTSTAMP:20260423T131122
CREATED:20260422T110043Z
LAST-MODIFIED:20260422T110043Z
UID:2099-1782691200-1782863999@leighacademyrainham.org.uk
SUMMARY:Year 7 Dover Castle trips
DESCRIPTION:
URL:https://leighacademyrainham.org.uk/event/year-7-dover-castle-trips/
ATTACH;FMTTYPE=image/png:https://leighacademyrainham.org.uk/wp-content/uploads/2020/09/post-banner-rainham.png
END:VEVENT
BEGIN:VEVENT
DTSTART;VALUE=DATE:20260630
DTEND;VALUE=DATE:20260701
DTSTAMP:20260423T131122
CREATED:20260422T110131Z
LAST-MODIFIED:20260422T110131Z
UID:2101-1782777600-1782863999@leighacademyrainham.org.uk
SUMMARY:Year 11 Prom
DESCRIPTION:
URL:https://leighacademyrainham.org.uk/event/year-11-prom/
ATTACH;FMTTYPE=image/png:https://leighacademyrainham.org.uk/wp-content/uploads/2020/09/post-banner-rainham.png
END:VEVENT
END:VCALENDAR